BEGIN:VCALENDAR
VERSION:2.0
PRODID:-//Eventin//Event Calendar//EN
CALSCALE:GREGORIAN
METHOD:PUBLISH
BEGIN:VEVENT
UID:b92a77dc0e4966183b532ff66d3057a9@artedge.net
SUMMARY:التلوين بالاكريليك للأطفال Kids Acrylic Pai
 nting
DESCRIPTION:
LOCATION:Art Edge Center
DTSTAMP:20260423T160838Z
DTSTART:20260427T133000Z
DTEND:20260427T153000Z
END:VEVENT
END:VCALENDAR
