BEGIN:VCALENDAR
VERSION:2.0
PRODID:-//Eventin//Event Calendar//EN
CALSCALE:GREGORIAN
METHOD:PUBLISH
BEGIN:VEVENT
UID:f161669ec8326cdcd9f18b5166efe67e@artedge.net
SUMMARY:التلوين بالاكريليك للأطفال Kids Acrylic Pai
 nting
DESCRIPTION:
LOCATION:Art Edge Center
DTSTAMP:20260423T160908Z
DTSTART:20260504T133000Z
DTEND:20260504T153000Z
END:VEVENT
END:VCALENDAR
