BEGIN:VCALENDAR
VERSION:2.0
PRODID:-//Eventin//Event Calendar//EN
CALSCALE:GREGORIAN
METHOD:PUBLISH
BEGIN:VEVENT
UID:b29a2b3baa53b52c763ca24effa6d641@artedge.net
SUMMARY:التلوين بالاكريليك للأطفال Kids Acrylic Pai
 nting
DESCRIPTION:
LOCATION:Art Edge Center
DTSTAMP:20260423T160906Z
DTSTART:20260511T133000Z
DTEND:20260511T153000Z
END:VEVENT
END:VCALENDAR
