BEGIN:VCALENDAR
VERSION:2.0
PRODID:-//Eventin//Event Calendar//EN
CALSCALE:GREGORIAN
METHOD:PUBLISH
BEGIN:VEVENT
UID:9f135b05555a5a3b80058b689e8171da@artedge.net
SUMMARY:التلوين بالاكريليك للأطفال Kids Acrylic Pai
 nting
DESCRIPTION:
LOCATION:Art Edge Center
DTSTAMP:20260423T160836Z
DTSTART:20260518T133000Z
DTEND:20260518T153000Z
END:VEVENT
END:VCALENDAR
