BEGIN:VCALENDAR
VERSION:2.0
PRODID:-//Eventin//Event Calendar//EN
CALSCALE:GREGORIAN
METHOD:PUBLISH
BEGIN:VEVENT
UID:00dd6e2bee2df9d411ffbba1e76e8252@artedge.net
SUMMARY:التلوين بالاكريليك للأطفال Kids Acrylic Pai
 nting
DESCRIPTION:
LOCATION:Art Edge Center
DTSTAMP:20260423T191220Z
DTSTART:20260629T133000Z
DTEND:20260629T153000Z
END:VEVENT
END:VCALENDAR
