BEGIN:VCALENDAR
VERSION:2.0
PRODID:-//Eventin//Event Calendar//EN
CALSCALE:GREGORIAN
METHOD:PUBLISH
BEGIN:VEVENT
UID:b7982dea5f17ed84a611854d3ccefbb2@artedge.net
SUMMARY:رسم الأزياء Fashion Drawing
DESCRIPTION:
LOCATION:Art Edge Center
DTSTAMP:20260423T160837Z
DTSTART:20260423T140000Z
DTEND:20260423T160000Z
END:VEVENT
END:VCALENDAR
