BEGIN:VCALENDAR
VERSION:2.0
PRODID:-//Eventin//Event Calendar//EN
CALSCALE:GREGORIAN
METHOD:PUBLISH
BEGIN:VEVENT
UID:3937e6a24371d1f45ab6ea7126711e86@artedge.net
SUMMARY:التشكيل على العجلة Pottery Wheel
DESCRIPTION:
LOCATION:Art Edge Center
DTSTAMP:20260423T160908Z
DTSTART:20260423T150000Z
DTEND:20260423T170000Z
END:VEVENT
END:VCALENDAR
