BEGIN:VCALENDAR
VERSION:2.0
PRODID:-//Eventin//Event Calendar//EN
CALSCALE:GREGORIAN
METHOD:PUBLISH
BEGIN:VEVENT
UID:118b506b6de7c1eb69f4529f12a7f63e@artedge.net
SUMMARY:التلوين بالآكريليك Acrylic Painting
DESCRIPTION:
LOCATION:Art Edge Center
DTSTAMP:20260423T160909Z
DTSTART:20260424T140000Z
DTEND:20260424T160000Z
END:VEVENT
END:VCALENDAR
