BEGIN:VCALENDAR
VERSION:2.0
PRODID:-//Eventin//Event Calendar//EN
CALSCALE:GREGORIAN
METHOD:PUBLISH
BEGIN:VEVENT
UID:3ef2971eedf6d825d33c0b90f7ce9557@artedge.net
SUMMARY:الحياكة اليدوية Finger Knitting
DESCRIPTION:
LOCATION:Art Edge Center
DTSTAMP:20260423T160823Z
DTSTART:20260426T140000Z
DTEND:20260426T160000Z
END:VEVENT
END:VCALENDAR
