BEGIN:VCALENDAR
VERSION:2.0
PRODID:-//Eventin//Event Calendar//EN
CALSCALE:GREGORIAN
METHOD:PUBLISH
BEGIN:VEVENT
UID:8f34280da0bb8ed5f837d3a9357f22ad@artedge.net
SUMMARY:تلوين القطع الفخارية بالاكريليك Colorin
 g pottery pieces with Acrylic
DESCRIPTION:
LOCATION:Art Edge Center
DTSTAMP:20260423T160932Z
DTSTART:20260426T150000Z
DTEND:20260426T170000Z
END:VEVENT
END:VCALENDAR
