BEGIN:VCALENDAR
VERSION:2.0
PRODID:-//Eventin//Event Calendar//EN
CALSCALE:GREGORIAN
METHOD:PUBLISH
BEGIN:VEVENT
UID:2ba26768ca24d7d8eea9254ab2a99ff2@artedge.net
SUMMARY:تشكيل الطين اليدوي Hand Pottery
DESCRIPTION:
LOCATION:Art Edge Center
DTSTAMP:20260423T160823Z
DTSTART:20260427T150000Z
DTEND:20260427T170000Z
END:VEVENT
END:VCALENDAR
