BEGIN:VCALENDAR
VERSION:2.0
PRODID:-//Eventin//Event Calendar//EN
CALSCALE:GREGORIAN
METHOD:PUBLISH
BEGIN:VEVENT
UID:25e2aa70a344c2ce0dcc52953c642c7c@artedge.net
SUMMARY:الرسم بالرصاص Pencil Drawing
DESCRIPTION:
LOCATION:Art Edge Center
DTSTAMP:20260423T160837Z
DTSTART:20260428T140000Z
DTEND:20260428T160000Z
END:VEVENT
END:VCALENDAR
