BEGIN:VCALENDAR
VERSION:2.0
PRODID:-//Eventin//Event Calendar//EN
CALSCALE:GREGORIAN
METHOD:PUBLISH
BEGIN:VEVENT
UID:993bc976c3684ff4512bd9e3000f9c13@artedge.net
SUMMARY:فن الريزن Resin Art
DESCRIPTION:
LOCATION:Art Edge Center
DTSTAMP:20260423T160836Z
DTSTART:20260430T140000Z
DTEND:20260430T160000Z
END:VEVENT
END:VCALENDAR
