BEGIN:VCALENDAR
VERSION:2.0
PRODID:-//Eventin//Event Calendar//EN
CALSCALE:GREGORIAN
METHOD:PUBLISH
BEGIN:VEVENT
UID:a4595c8bd309a1f1e970eb7c7538cd6a@artedge.net
SUMMARY:الرسم شبه تجريدي للمناظر الطبيعية Semi
 -abstract landscape painting
DESCRIPTION:
LOCATION:Art Edge Center
DTSTAMP:20260423T160933Z
DTSTART:20260428T140000Z
DTEND:20260428T160000Z
END:VEVENT
END:VCALENDAR
