BEGIN:VCALENDAR
VERSION:2.0
PRODID:-//Eventin//Event Calendar//EN
CALSCALE:GREGORIAN
METHOD:PUBLISH
BEGIN:VEVENT
UID:2dd521a492f0db1601926a5c2f59c7c6@artedge.net
SUMMARY:رسم الأنمي Anime Drawing
DESCRIPTION:
LOCATION:Art Edge Center
DTSTAMP:20260423T160933Z
DTSTART:20260429T150000Z
DTEND:20260429T170000Z
END:VEVENT
END:VCALENDAR
