BEGIN:VCALENDAR
VERSION:2.0
PRODID:-//Eventin//Event Calendar//EN
CALSCALE:GREGORIAN
METHOD:PUBLISH
BEGIN:VEVENT
UID:0c1bc5c286062192bf8443deec793e38@artedge.net
SUMMARY:الرسم على التوت باق Tote Bag Painting
DESCRIPTION:
LOCATION:Art Edge Center
DTSTAMP:20260423T160906Z
DTSTART:20260430T150000Z
DTEND:20260430T170000Z
END:VEVENT
END:VCALENDAR
