BEGIN:VCALENDAR
VERSION:2.0
PRODID:-//Eventin//Event Calendar//EN
CALSCALE:GREGORIAN
METHOD:PUBLISH
BEGIN:VEVENT
UID:08aafe32c8569d86403af7c5c171f4c5@artedge.net
SUMMARY:التلوين على قبعات التخرج Painting on graduatio
 n caps
DESCRIPTION:
LOCATION:Art Edge Center
DTSTAMP:20260423T160932Z
DTSTART:20260428T150000Z
DTEND:20260428T170000Z
END:VEVENT
END:VCALENDAR
